BEGIN:VCALENDAR
VERSION:2.0
PRODID:-//Christian Science in Greater Kansas City - ECPv6.15.16//NONSGML v1.0//EN
CALSCALE:GREGORIAN
METHOD:PUBLISH
X-WR-CALNAME:Christian Science in Greater Kansas City
X-ORIGINAL-URL:https://christiansciencekc.com
X-WR-CALDESC:Events for Christian Science in Greater Kansas City
REFRESH-INTERVAL;VALUE=DURATION:PT1H
X-Robots-Tag:noindex
X-PUBLISHED-TTL:PT1H
BEGIN:VTIMEZONE
TZID:America/Chicago
BEGIN:DAYLIGHT
TZOFFSETFROM:-0600
TZOFFSETTO:-0500
TZNAME:CDT
DTSTART:20240310T080000
END:DAYLIGHT
BEGIN:STANDARD
TZOFFSETFROM:-0500
TZOFFSETTO:-0600
TZNAME:CST
DTSTART:20241103T070000
END:STANDARD
BEGIN:DAYLIGHT
TZOFFSETFROM:-0600
TZOFFSETTO:-0500
TZNAME:CDT
DTSTART:20250309T080000
END:DAYLIGHT
BEGIN:STANDARD
TZOFFSETFROM:-0500
TZOFFSETTO:-0600
TZNAME:CST
DTSTART:20251102T070000
END:STANDARD
BEGIN:DAYLIGHT
TZOFFSETFROM:-0600
TZOFFSETTO:-0500
TZNAME:CDT
DTSTART:20260308T080000
END:DAYLIGHT
BEGIN:STANDARD
TZOFFSETFROM:-0500
TZOFFSETTO:-0600
TZNAME:CST
DTSTART:20261101T070000
END:STANDARD
END:VTIMEZONE
BEGIN:VEVENT
DTSTART;TZID=America/Chicago:20251011T143000
DTEND;TZID=America/Chicago:20251011T153000
DTSTAMP:20260423T013238
CREATED:20250915T170611Z
LAST-MODIFIED:20250919T151228Z
UID:2157-1760193000-1760196600@christiansciencekc.com
SUMMARY:Finding where God is seen and felt: What's church got to do with it?
DESCRIPTION:Emra Farkas\, practitioner of Christian Science healing and international speaker\, will present her talk\, “Finding where God is seen and felt – what’s church got to do with it?” on Saturday\, October 11th at 2:30 p.m. \nThe talk will focus on universal healing precepts found in the Holy Bible\, especially in Christ Jesus’ life and teachings\, showing how they are available for anyone to understand and experience through the lens of Christian Science. The talk is free\, open to the community\, and hosted by Church name: i.e. “First Church of Christ\, Scientist\, in” town name. \n“A new kind of thinking is needed to recognize that God’s goodness and love are actually here and tangible to all humanity everywhere\,” says Ms. Farkas. “The idea of ‘church’ can shift from being a physical building\, a set time on a particular day\, or an assembly of perfect humans (does that even exist??)\, to that of being what God builds in our lives every moment through us responding to Christ Jesus’ message of God’s all-powerful love.” \nSharing examples of healing from her own life and professional practice of Christian Science\, Ms. Farkas will explain why Christian Science is both Christian and scientific\, meaning that people can prove its effectiveness for themselves\, as fully described in the book Science and Health with Key to the Scriptures\, written by the founder of the Christian Science movement\, Mary Baker Eddy. \nMs. Farkas will also touch on the life of Mary Baker Eddy\, who came to understand\, confirm\, and teach what she felt was original Christian healing. Eddy herself said she was especially inspired by Jesus’ demand\, “He that believes on me\, the works that I do will he do also; and greater works than these will he do\, because I go unto my Father” (found in the Gospel of John 14:12 in the Bible). \nFor over 150 years\, people around the world have worked to follow Christ Jesus in this practice of Christianity and continue to do so today\, experiencing healings of physical ills and personal difficulties. \nEmra Farkas has been a Christian Science practitioner for many years\, helping people on a daily basis through this scientific approach to prayer. She travels from her home base in Santa Fe\, New Mexico\, to speak to audiences as a member of the Christian Science Board of Lectureship. \n 
URL:https://christiansciencekc.com/event/finding-where-god-is-seen-and-felt-whats-church-got-to-do-with-it-a-free-lecture/
LOCATION:Central Resource Library\, 9875 W. 87th Street\, Overland Park\, 66212\, United States
ATTACH;FMTTYPE=image/png:https://christiansciencekc.com/wp-content/uploads/2025/09/OP-banner.png
END:VEVENT
END:VCALENDAR