BEGIN:VCALENDAR
VERSION:2.0
PRODID:-//Christian Science in Greater Kansas City - ECPv6.15.16//NONSGML v1.0//EN
CALSCALE:GREGORIAN
METHOD:PUBLISH
X-WR-CALNAME:Christian Science in Greater Kansas City
X-ORIGINAL-URL:https://christiansciencekc.com
X-WR-CALDESC:Events for Christian Science in Greater Kansas City
REFRESH-INTERVAL;VALUE=DURATION:PT1H
X-Robots-Tag:noindex
X-PUBLISHED-TTL:PT1H
BEGIN:VTIMEZONE
TZID:UTC
BEGIN:STANDARD
TZOFFSETFROM:+0000
TZOFFSETTO:+0000
TZNAME:UTC
DTSTART:20240101T000000
END:STANDARD
END:VTIMEZONE
BEGIN:VEVENT
DTSTART;VALUE=DATE:20251127
DTEND;VALUE=DATE:20251128
DTSTAMP:20260422T234446
CREATED:20250816T000905Z
LAST-MODIFIED:20251010T120005Z
UID:1555-1764201600-1764287999@christiansciencekc.com
SUMMARY:Thanksgiving Day Service on Wednesday and Thursday
DESCRIPTION:We invite you to share in giving gratitude on Wednesday or Thursday – Check your local church for service times.\nThe Christian Science branch churches in Greater Kansas City all provide an annual service on Thanksgiving\, or the Wednesday before. \nThe Thanksgiving Day service brings families and friends together for a special Bible Lesson service and the opportunity to share expressions of gratitude. \nService times may vary across the tri-state region\, so please check our church directory to find the start time of the service you’d like to attend.
URL:https://christiansciencekc.com/event/thanksgiving-day-service/
ATTACH;FMTTYPE=image/jpeg:https://christiansciencekc.com/wp-content/uploads/2025/08/thanksgiving-day-images.jpg
END:VEVENT
END:VCALENDAR