BEGIN:VCALENDAR
VERSION:2.0
PRODID:-//Christian Science in Greater Kansas City - ECPv6.15.16//NONSGML v1.0//EN
CALSCALE:GREGORIAN
METHOD:PUBLISH
X-ORIGINAL-URL:https://christiansciencekc.com
X-WR-CALDESC:Events for Christian Science in Greater Kansas City
REFRESH-INTERVAL;VALUE=DURATION:PT1H
X-Robots-Tag:noindex
X-PUBLISHED-TTL:PT1H
BEGIN:VTIMEZONE
TZID:America/Chicago
BEGIN:DAYLIGHT
TZOFFSETFROM:-0600
TZOFFSETTO:-0500
TZNAME:CDT
DTSTART:20250309T080000
END:DAYLIGHT
BEGIN:STANDARD
TZOFFSETFROM:-0500
TZOFFSETTO:-0600
TZNAME:CST
DTSTART:20251102T070000
END:STANDARD
BEGIN:DAYLIGHT
TZOFFSETFROM:-0600
TZOFFSETTO:-0500
TZNAME:CDT
DTSTART:20260308T080000
END:DAYLIGHT
BEGIN:STANDARD
TZOFFSETFROM:-0500
TZOFFSETTO:-0600
TZNAME:CST
DTSTART:20261101T070000
END:STANDARD
BEGIN:DAYLIGHT
TZOFFSETFROM:-0600
TZOFFSETTO:-0500
TZNAME:CDT
DTSTART:20270314T080000
END:DAYLIGHT
BEGIN:STANDARD
TZOFFSETFROM:-0500
TZOFFSETTO:-0600
TZNAME:CST
DTSTART:20271107T070000
END:STANDARD
END:VTIMEZONE
BEGIN:VEVENT
DTSTART;TZID=America/Chicago:20260607T100000
DTEND;TZID=America/Chicago:20260607T180000
DTSTAMP:20260422T140654
CREATED:20260221T013511Z
LAST-MODIFIED:20260221T014311Z
UID:2434-1780826400-1780855200@christiansciencekc.com
SUMMARY:Annual Meeting - Sunday
DESCRIPTION:Schedule of events\nSunday\, June 7 \n10:00–11:00 a.m. (ET) — Sunday Church Service and Sunday School \n– The Mother Church Extension\n– Online and in person \n2:00–3:00 p.m. (ET) — Hymn Sing \n– The Mother Church Extension\n– Online and in person \n5:00–6:00 p.m. (ET) — Sunday Church Service \n– Original Edifice of The Mother Church\n– In person only \nMore information:  https://www.christianscience.com/additional-resources/annual-meeting
URL:https://christiansciencekc.com/event/annual-meeting-2/
ATTACH;FMTTYPE=image/jpeg:https://christiansciencekc.com/wp-content/uploads/2026/02/mother-church-boston.jpg
END:VEVENT
END:VCALENDAR