BEGIN:VCALENDAR
VERSION:2.0
PRODID:-//Christian Science in Greater Kansas City - ECPv6.15.16//NONSGML v1.0//EN
CALSCALE:GREGORIAN
METHOD:PUBLISH
X-WR-CALNAME:Christian Science in Greater Kansas City
X-ORIGINAL-URL:https://christiansciencekc.com
X-WR-CALDESC:Events for Christian Science in Greater Kansas City
REFRESH-INTERVAL;VALUE=DURATION:PT1H
X-Robots-Tag:noindex
X-PUBLISHED-TTL:PT1H
BEGIN:VTIMEZONE
TZID:America/Chicago
BEGIN:DAYLIGHT
TZOFFSETFROM:-0600
TZOFFSETTO:-0500
TZNAME:CDT
DTSTART:20240310T080000
END:DAYLIGHT
BEGIN:STANDARD
TZOFFSETFROM:-0500
TZOFFSETTO:-0600
TZNAME:CST
DTSTART:20241103T070000
END:STANDARD
BEGIN:DAYLIGHT
TZOFFSETFROM:-0600
TZOFFSETTO:-0500
TZNAME:CDT
DTSTART:20250309T080000
END:DAYLIGHT
BEGIN:STANDARD
TZOFFSETFROM:-0500
TZOFFSETTO:-0600
TZNAME:CST
DTSTART:20251102T070000
END:STANDARD
BEGIN:DAYLIGHT
TZOFFSETFROM:-0600
TZOFFSETTO:-0500
TZNAME:CDT
DTSTART:20260308T080000
END:DAYLIGHT
BEGIN:STANDARD
TZOFFSETFROM:-0500
TZOFFSETTO:-0600
TZNAME:CST
DTSTART:20261101T070000
END:STANDARD
BEGIN:DAYLIGHT
TZOFFSETFROM:-0600
TZOFFSETTO:-0500
TZNAME:CDT
DTSTART:20270314T080000
END:DAYLIGHT
BEGIN:STANDARD
TZOFFSETFROM:-0500
TZOFFSETTO:-0600
TZNAME:CST
DTSTART:20271107T070000
END:STANDARD
END:VTIMEZONE
BEGIN:VTIMEZONE
TZID:UTC
BEGIN:STANDARD
TZOFFSETFROM:+0000
TZOFFSETTO:+0000
TZNAME:UTC
DTSTART:20240101T000000
END:STANDARD
END:VTIMEZONE
BEGIN:VEVENT
DTSTART;TZID=America/Chicago:20260412T140000
DTEND;TZID=America/Chicago:20260412T150000
DTSTAMP:20260422T174859
CREATED:20260221T011927Z
LAST-MODIFIED:20260221T012500Z
UID:2417-1776002400-1776006000@christiansciencekc.com
SUMMARY:Discover Ever Present Love - Active in your life
DESCRIPTION:
URL:https://christiansciencekc.com/event/discover-ever-present-love-active-in-your-life/
LOCATION:Gladstone Community Center\, 6901 N Holmes\, Kansas City\, Missouri\, 64118
ATTACH;FMTTYPE=image/png:https://christiansciencekc.com/wp-content/uploads/2026/02/KC-poster.png
ORGANIZER;CN="Tenth Church of Christ%2C Scientist%2C Kansas City":MAILTO:10thchurchkc@gmail.com
END:VEVENT
BEGIN:VEVENT
DTSTART;TZID=America/Chicago:20260308T030000
DTEND;TZID=America/Chicago:20260308T150000
DTSTAMP:20260422T174859
CREATED:20260221T012740Z
LAST-MODIFIED:20260221T012840Z
UID:2422-1772938800-1772982000@christiansciencekc.com
SUMMARY:Daylight Savings Time starts
DESCRIPTION:
URL:https://christiansciencekc.com/event/daylight-savings-time-starts/
ATTACH;FMTTYPE=image/jpeg:https://christiansciencekc.com/wp-content/uploads/2026/02/spring-forward-2021.jpeg
END:VEVENT
BEGIN:VEVENT
DTSTART;TZID=America/Chicago:20260124T110000
DTEND;TZID=America/Chicago:20260124T130000
DTSTAMP:20260422T174859
CREATED:20251008T225842Z
LAST-MODIFIED:20251008T225842Z
UID:2302-1769252400-1769259600@christiansciencekc.com
SUMMARY:The Chosen:  Season 5\, Episode 5\, "Because of Me"
DESCRIPTION:The Chosen is a groundbreaking historical drama based on the life of Jesus Christ (Jonathan Roumie)\, seen through the eyes of those who knew him. Set against the backdrop of Roman oppression in first-century Israel\, the seven-season show shares an authentic and intimate look at Jesus’ revolutionary life and teachings. \nSaturdays 11:00 a.m. to 1:00 p.m. \nJoin us to watch one episode at each in-person meeting\, followed by discussion. All are welcome. Bring your lunch or snack. And bring an open\, inquisitive mind. You won’t need to agree with everything or anything or anyone.  Each episode can stand alone so come when you can. \nWhere: Christian Science Reading Room in Red Bridge Shopping Center in Kansas City\, MO at 504 East 112th Street. \nZoom:  Watch the week’s episode from your home and then join us on Zoom for the discussion. To register for Zoom\, text “Chosen Zoom Register” to 317-324-0102 and include your name\, phone\, and email address or call the same number.
URL:https://christiansciencekc.com/event/the-chosen-season-5-episode-5-because-of-me/
LOCATION:Christian Science Reading Room Red Bridge\, 504 E 112th St Red Bridge Shopping Center\, Kansas City\, MO\, 64131\, United States
ATTACH;FMTTYPE=image/png:https://christiansciencekc.com/wp-content/uploads/2025/10/sea-5-ep-5.png
END:VEVENT
BEGIN:VEVENT
DTSTART;TZID=America/Chicago:20260110T110000
DTEND;TZID=America/Chicago:20260110T130000
DTSTAMP:20260422T174859
CREATED:20251008T225714Z
LAST-MODIFIED:20251008T225714Z
UID:2299-1768042800-1768050000@christiansciencekc.com
SUMMARY:The Chosen:  Season 5\, Episode 4\, "The same Coin"
DESCRIPTION:The Chosen is a groundbreaking historical drama based on the life of Jesus Christ (Jonathan Roumie)\, seen through the eyes of those who knew him. Set against the backdrop of Roman oppression in first-century Israel\, the seven-season show shares an authentic and intimate look at Jesus’ revolutionary life and teachings. \nSaturdays 11:00 a.m. to 1:00 p.m. \nJoin us to watch one episode at each in-person meeting\, followed by discussion. All are welcome. Bring your lunch or snack. And bring an open\, inquisitive mind. You won’t need to agree with everything or anything or anyone.  Each episode can stand alone so come when you can. \nWhere: Christian Science Reading Room in Red Bridge Shopping Center in Kansas City\, MO at 504 East 112th Street. \nZoom:  Watch the week’s episode from your home and then join us on Zoom for the discussion. To register for Zoom\, text “Chosen Zoom Register” to 317-324-0102 and include your name\, phone\, and email address or call the same number.
URL:https://christiansciencekc.com/event/the-chosen-season-5-episode-4-the-same-coin/
LOCATION:Christian Science Reading Room Red Bridge\, 504 E 112th St Red Bridge Shopping Center\, Kansas City\, MO\, 64131\, United States
ATTACH;FMTTYPE=image/jpeg:https://christiansciencekc.com/wp-content/uploads/2025/10/sea-5-ep-4.jpg
END:VEVENT
BEGIN:VEVENT
DTSTART;TZID=America/Chicago:20251213T150000
DTEND;TZID=America/Chicago:20251213T170000
DTSTAMP:20260422T174859
CREATED:20251012T221110Z
LAST-MODIFIED:20251012T221111Z
UID:2314-1765638000-1765645200@christiansciencekc.com
SUMMARY:Principia Hymn Sing
DESCRIPTION:
URL:https://christiansciencekc.com/event/principia-hymn-sing/
LOCATION:Matt Ross Community Center\, 8101 Marty St\,\, Overland Park\, 66204\, United States
ATTACH;FMTTYPE=image/jpeg:https://christiansciencekc.com/wp-content/uploads/2025/10/sing-shutterstock_1202648509-Copy.jpg
END:VEVENT
BEGIN:VEVENT
DTSTART;TZID=America/Chicago:20251206T110000
DTEND;TZID=America/Chicago:20251206T130000
DTSTAMP:20260422T174859
CREATED:20251008T225535Z
LAST-MODIFIED:20251008T230037Z
UID:2296-1765018800-1765026000@christiansciencekc.com
SUMMARY:The Chosen:  Season 5\, Episode 3\, "Woes"
DESCRIPTION:The Chosen is a groundbreaking historical drama based on the life of Jesus Christ (Jonathan Roumie)\, seen through the eyes of those who knew him. Set against the backdrop of Roman oppression in first-century Israel\, the seven-season show shares an authentic and intimate look at Jesus’ revolutionary life and teachings. \nSaturdays 11:00 a.m. to 1:00 p.m. \nJoin us to watch one episode at each in-person meeting\, followed by discussion. All are welcome. Bring your lunch or snack. And bring an open\, inquisitive mind. You won’t need to agree with everything or anything or anyone.  Each episode can stand alone so come when you can. \nWhere: Christian Science Reading Room in Red Bridge Shopping Center in Kansas City\, MO at 504 East 112th Street. \nZoom:  Watch the week’s episode from your home and then join us on Zoom for the discussion. To register for Zoom\, text “Chosen Zoom Register” to 317-324-0102 and include your name\, phone\, and email address or call the same number.
URL:https://christiansciencekc.com/event/the-chosen-season-5-episode-3-woes/
LOCATION:Christian Science Reading Room Red Bridge\, 504 E 112th St Red Bridge Shopping Center\, Kansas City\, MO\, 64131\, United States
ATTACH;FMTTYPE=image/webp:https://christiansciencekc.com/wp-content/uploads/2025/10/sea-5-ep-3.webp
END:VEVENT
BEGIN:VEVENT
DTSTART;VALUE=DATE:20251127
DTEND;VALUE=DATE:20251128
DTSTAMP:20260422T174859
CREATED:20250816T000905Z
LAST-MODIFIED:20251010T120005Z
UID:1555-1764201600-1764287999@christiansciencekc.com
SUMMARY:Thanksgiving Day Service on Wednesday and Thursday
DESCRIPTION:We invite you to share in giving gratitude on Wednesday or Thursday – Check your local church for service times.\nThe Christian Science branch churches in Greater Kansas City all provide an annual service on Thanksgiving\, or the Wednesday before. \nThe Thanksgiving Day service brings families and friends together for a special Bible Lesson service and the opportunity to share expressions of gratitude. \nService times may vary across the tri-state region\, so please check our church directory to find the start time of the service you’d like to attend.
URL:https://christiansciencekc.com/event/thanksgiving-day-service/
ATTACH;FMTTYPE=image/jpeg:https://christiansciencekc.com/wp-content/uploads/2025/08/thanksgiving-day-images.jpg
END:VEVENT
BEGIN:VEVENT
DTSTART;TZID=America/Chicago:20251115T110000
DTEND;TZID=America/Chicago:20251115T130000
DTSTAMP:20260422T174859
CREATED:20251008T225117Z
LAST-MODIFIED:20251008T230049Z
UID:2292-1763204400-1763211600@christiansciencekc.com
SUMMARY:The Chosen:  Season 5\, Episode 2\, "House of Cards"
DESCRIPTION:The Chosen is a groundbreaking historical drama based on the life of Jesus Christ (Jonathan Roumie)\, seen through the eyes of those who knew him. Set against the backdrop of Roman oppression in first-century Israel\, the seven-season show shares an authentic and intimate look at Jesus’ revolutionary life and teachings. \nSaturdays 11:00 a.m. to 1:00 p.m. \nJoin us to watch one episode at each in-person meeting\, followed by discussion. All are welcome. Bring your lunch or snack. And bring an open\, inquisitive mind. You won’t need to agree with everything or anything or anyone.  Each episode can stand alone so come when you can. \nWhere: Christian Science Reading Room in Red Bridge Shopping Center in Kansas City\, MO at 504 East 112th Street. \nZoom:  Watch the week’s episode from your home and then join us on Zoom for the discussion. To register for Zoom\, text “Chosen Zoom Register” to 317-324-0102 and include your name\, phone\, and email address or call the same number.
URL:https://christiansciencekc.com/event/the-chosen-season-5-episode-1-entry/
LOCATION:Christian Science Reading Room Red Bridge\, 504 E 112th St Red Bridge Shopping Center\, Kansas City\, MO\, 64131\, United States
ATTACH;FMTTYPE=image/avif:https://christiansciencekc.com/wp-content/uploads/2025/10/sea-5-ep-2.avif
END:VEVENT
BEGIN:VEVENT
DTSTART;TZID=America/Chicago:20251101T110000
DTEND;TZID=America/Chicago:20251101T130000
DTSTAMP:20260422T174859
CREATED:20251008T224832Z
LAST-MODIFIED:20251008T230056Z
UID:2286-1761994800-1762002000@christiansciencekc.com
SUMMARY:The Chosen:  11-1-25:  Season 5\, Episode 1\, "Entry"
DESCRIPTION:The Chosen is a groundbreaking historical drama based on the life of Jesus Christ (Jonathan Roumie)\, seen through the eyes of those who knew him. Set against the backdrop of Roman oppression in first-century Israel\, the seven-season show shares an authentic and intimate look at Jesus’ revolutionary life and teachings. \nSaturdays 11:00 a.m. to 1:00 p.m. \nJoin us to watch one episode at each in-person meeting\, followed by discussion. All are welcome. Bring your lunch or snack. And bring an open\, inquisitive mind. You won’t need to agree with everything or anything or anyone.  Each episode can stand alone so come when you can. \nWhere: Christian Science Reading Room in Red Bridge Shopping Center in Kansas City\, MO at 504 East 112th Street. \nZoom:  Watch the week’s episode from your home and then join us on Zoom for the discussion. To register for Zoom\, text “Chosen Zoom Register” to 317-324-0102 and include your name\, phone\, and email address or call the same number.
URL:https://christiansciencekc.com/event/the-chosen-11-1-25-season-5-episode-1-entry/
LOCATION:Christian Science Reading Room Red Bridge\, 504 E 112th St Red Bridge Shopping Center\, Kansas City\, MO\, 64131\, United States
ATTACH;FMTTYPE=image/jpeg:https://christiansciencekc.com/wp-content/uploads/2025/10/sea-5-ep-1.jpg
END:VEVENT
BEGIN:VEVENT
DTSTART;VALUE=DATE:20251018
DTEND;VALUE=DATE:20251019
DTSTAMP:20260422T174859
CREATED:20250910T224355Z
LAST-MODIFIED:20251008T230103Z
UID:2132-1760745600-1760831999@christiansciencekc.com
SUMMARY:The Chosen:  10-18-25: Season 4\, Episode 8\, “Humble”
DESCRIPTION:The Chosen is a groundbreaking historical drama based on the life of Jesus Christ (Jonathan Roumie)\, seen through the eyes of those who knew him. Set against the backdrop of Roman oppression in first-century Israel\, the seven-season show shares an authentic and intimate look at Jesus’ revolutionary life and teachings. \nSaturdays 11:00 a.m. to 1:00 p.m. \nJoin us to watch one episode at each in-person meeting\, followed by discussion. All are welcome. Bring your lunch or snack. And bring an open\, inquisitive mind. You won’t need to agree with everything or anything or anyone.  Each episode can stand alone so come when you can. \nWhere: Christian Science Reading Room in Red Bridge Shopping Center in Kansas City\, MO at 504 East 112th Street. \nZoom:  Watch the week’s episode from your home and then join us on Zoom for the discussion. To register for Zoom\, text “Chosen Zoom Register” to 317-324-0102 and include your name\, phone\, and email address or call the same number.
URL:https://christiansciencekc.com/event/the-chosen-10-18-25-season-4-episode-8-humble/
ATTACH;FMTTYPE=image/jpeg:https://christiansciencekc.com/wp-content/uploads/2025/09/chosen-3.jpg
END:VEVENT
BEGIN:VEVENT
DTSTART;TZID=America/Chicago:20251011T143000
DTEND;TZID=America/Chicago:20251011T153000
DTSTAMP:20260422T174859
CREATED:20250915T170611Z
LAST-MODIFIED:20250919T151228Z
UID:2157-1760193000-1760196600@christiansciencekc.com
SUMMARY:Finding where God is seen and felt: What's church got to do with it?
DESCRIPTION:Emra Farkas\, practitioner of Christian Science healing and international speaker\, will present her talk\, “Finding where God is seen and felt – what’s church got to do with it?” on Saturday\, October 11th at 2:30 p.m. \nThe talk will focus on universal healing precepts found in the Holy Bible\, especially in Christ Jesus’ life and teachings\, showing how they are available for anyone to understand and experience through the lens of Christian Science. The talk is free\, open to the community\, and hosted by Church name: i.e. “First Church of Christ\, Scientist\, in” town name. \n“A new kind of thinking is needed to recognize that God’s goodness and love are actually here and tangible to all humanity everywhere\,” says Ms. Farkas. “The idea of ‘church’ can shift from being a physical building\, a set time on a particular day\, or an assembly of perfect humans (does that even exist??)\, to that of being what God builds in our lives every moment through us responding to Christ Jesus’ message of God’s all-powerful love.” \nSharing examples of healing from her own life and professional practice of Christian Science\, Ms. Farkas will explain why Christian Science is both Christian and scientific\, meaning that people can prove its effectiveness for themselves\, as fully described in the book Science and Health with Key to the Scriptures\, written by the founder of the Christian Science movement\, Mary Baker Eddy. \nMs. Farkas will also touch on the life of Mary Baker Eddy\, who came to understand\, confirm\, and teach what she felt was original Christian healing. Eddy herself said she was especially inspired by Jesus’ demand\, “He that believes on me\, the works that I do will he do also; and greater works than these will he do\, because I go unto my Father” (found in the Gospel of John 14:12 in the Bible). \nFor over 150 years\, people around the world have worked to follow Christ Jesus in this practice of Christianity and continue to do so today\, experiencing healings of physical ills and personal difficulties. \nEmra Farkas has been a Christian Science practitioner for many years\, helping people on a daily basis through this scientific approach to prayer. She travels from her home base in Santa Fe\, New Mexico\, to speak to audiences as a member of the Christian Science Board of Lectureship. \n 
URL:https://christiansciencekc.com/event/finding-where-god-is-seen-and-felt-whats-church-got-to-do-with-it-a-free-lecture/
LOCATION:Central Resource Library\, 9875 W. 87th Street\, Overland Park\, 66212\, United States
ATTACH;FMTTYPE=image/png:https://christiansciencekc.com/wp-content/uploads/2025/09/OP-banner.png
END:VEVENT
BEGIN:VEVENT
DTSTART;VALUE=DATE:20251004
DTEND;VALUE=DATE:20251005
DTSTAMP:20260422T174859
CREATED:20250910T224307Z
LAST-MODIFIED:20250916T121100Z
UID:2129-1759536000-1759622399@christiansciencekc.com
SUMMARY:The Chosen 10-4-25: Season 4\, Episode 7\, “The Last Sign”
DESCRIPTION:The Chosen is a groundbreaking historical drama based on the life of Jesus Christ (Jonathan Roumie)\, seen through the eyes of those who knew him. Set against the backdrop of Roman oppression in first-century Israel\, the seven-season show shares an authentic and intimate look at Jesus’ revolutionary life and teachings. \nSaturdays 11:00 a.m. to 1:00 p.m. \nJoin us to watch one episode at each in-person meeting\, followed by discussion. All are welcome. Bring your lunch or snack. And bring an open\, inquisitive mind. You won’t need to agree with everything or anything or anyone.  Each episode can stand alone so come when you can. \nWhere: Christian Science Reading Room in Red Bridge Shopping Center in Kansas City\, MO at 504 East 112th Street. \nZoom:  Watch the week’s episode from your home and then join us on Zoom for the discussion. To register for Zoom\, text “Chosen Zoom Register” to 317-324-0102 and include your name\, phone\, and email address or call the same number.
URL:https://christiansciencekc.com/event/the-chosen-10-4-25-season-4-episode-7-the-last-sign/
ATTACH;FMTTYPE=image/webp:https://christiansciencekc.com/wp-content/uploads/2025/09/chosen-2.webp
END:VEVENT
BEGIN:VEVENT
DTSTART;VALUE=DATE:20250920
DTEND;VALUE=DATE:20250921
DTSTAMP:20260422T174859
CREATED:20250910T224149Z
LAST-MODIFIED:20250916T121122Z
UID:2126-1758326400-1758412799@christiansciencekc.com
SUMMARY:The Chosen 9-20-25: Episode 6\, ”Dedication”
DESCRIPTION:The Chosen is a groundbreaking historical drama based on the life of Jesus Christ (Jonathan Roumie)\, seen through the eyes of those who knew him. Set against the backdrop of Roman oppression in first-century Israel\, the seven-season show shares an authentic and intimate look at Jesus’ revolutionary life and teachings. \nSaturdays 11:00 a.m. to 1:00 p.m. \nJoin us to watch one episode at each in-person meeting\, followed by discussion. All are welcome. Bring your lunch or snack. And bring an open\, inquisitive mind. You won’t need to agree with everything or anything or anyone.  Each episode can stand alone so come when you can. \nWhere: Christian Science Reading Room in Red Bridge Shopping Center in Kansas City\, MO at 504 East 112th Street. \nZoom:  Watch the week’s episode from your home and then join us on Zoom for the discussion. To register for Zoom\, text “Chosen Zoom Register” to 317-324-0102 and include your name\, phone\, and email address or call the same number.
URL:https://christiansciencekc.com/event/the-chosen-9-20-25-episode-6-dedication/
ATTACH;FMTTYPE=image/jpeg:https://christiansciencekc.com/wp-content/uploads/2025/09/chosen-1.jpg
END:VEVENT
END:VCALENDAR