BEGIN:VCALENDAR
VERSION:2.0
PRODID:-//Christian Science in Greater Kansas City - ECPv6.15.16//NONSGML v1.0//EN
CALSCALE:GREGORIAN
METHOD:PUBLISH
X-WR-CALNAME:Christian Science in Greater Kansas City
X-ORIGINAL-URL:https://christiansciencekc.com
X-WR-CALDESC:Events for Christian Science in Greater Kansas City
REFRESH-INTERVAL;VALUE=DURATION:PT1H
X-Robots-Tag:noindex
X-PUBLISHED-TTL:PT1H
BEGIN:VTIMEZONE
TZID:America/Chicago
BEGIN:DAYLIGHT
TZOFFSETFROM:-0600
TZOFFSETTO:-0500
TZNAME:CDT
DTSTART:20240310T080000
END:DAYLIGHT
BEGIN:STANDARD
TZOFFSETFROM:-0500
TZOFFSETTO:-0600
TZNAME:CST
DTSTART:20241103T070000
END:STANDARD
BEGIN:DAYLIGHT
TZOFFSETFROM:-0600
TZOFFSETTO:-0500
TZNAME:CDT
DTSTART:20250309T080000
END:DAYLIGHT
BEGIN:STANDARD
TZOFFSETFROM:-0500
TZOFFSETTO:-0600
TZNAME:CST
DTSTART:20251102T070000
END:STANDARD
BEGIN:DAYLIGHT
TZOFFSETFROM:-0600
TZOFFSETTO:-0500
TZNAME:CDT
DTSTART:20260308T080000
END:DAYLIGHT
BEGIN:STANDARD
TZOFFSETFROM:-0500
TZOFFSETTO:-0600
TZNAME:CST
DTSTART:20261101T070000
END:STANDARD
END:VTIMEZONE
BEGIN:VEVENT
DTSTART;VALUE=DATE:20250920
DTEND;VALUE=DATE:20250921
DTSTAMP:20260423T030024
CREATED:20250910T224149Z
LAST-MODIFIED:20250916T121122Z
UID:2126-1758326400-1758412799@christiansciencekc.com
SUMMARY:The Chosen 9-20-25: Episode 6\, ”Dedication”
DESCRIPTION:The Chosen is a groundbreaking historical drama based on the life of Jesus Christ (Jonathan Roumie)\, seen through the eyes of those who knew him. Set against the backdrop of Roman oppression in first-century Israel\, the seven-season show shares an authentic and intimate look at Jesus’ revolutionary life and teachings. \nSaturdays 11:00 a.m. to 1:00 p.m. \nJoin us to watch one episode at each in-person meeting\, followed by discussion. All are welcome. Bring your lunch or snack. And bring an open\, inquisitive mind. You won’t need to agree with everything or anything or anyone.  Each episode can stand alone so come when you can. \nWhere: Christian Science Reading Room in Red Bridge Shopping Center in Kansas City\, MO at 504 East 112th Street. \nZoom:  Watch the week’s episode from your home and then join us on Zoom for the discussion. To register for Zoom\, text “Chosen Zoom Register” to 317-324-0102 and include your name\, phone\, and email address or call the same number.
URL:https://christiansciencekc.com/event/the-chosen-9-20-25-episode-6-dedication/
LOCATION:MO
ATTACH;FMTTYPE=image/jpeg:https://christiansciencekc.com/wp-content/uploads/2025/09/chosen-1.jpg
END:VEVENT
END:VCALENDAR