BEGIN:VCALENDAR
VERSION:2.0
PRODID:-//Christian Science in Greater Kansas City - ECPv6.15.16//NONSGML v1.0//EN
CALSCALE:GREGORIAN
METHOD:PUBLISH
X-WR-CALNAME:Christian Science in Greater Kansas City
X-ORIGINAL-URL:https://christiansciencekc.com
X-WR-CALDESC:Events for Christian Science in Greater Kansas City
REFRESH-INTERVAL;VALUE=DURATION:PT1H
X-Robots-Tag:noindex
X-PUBLISHED-TTL:PT1H
BEGIN:VTIMEZONE
TZID:America/Chicago
BEGIN:DAYLIGHT
TZOFFSETFROM:-0600
TZOFFSETTO:-0500
TZNAME:CDT
DTSTART:20250309T080000
END:DAYLIGHT
BEGIN:STANDARD
TZOFFSETFROM:-0500
TZOFFSETTO:-0600
TZNAME:CST
DTSTART:20251102T070000
END:STANDARD
BEGIN:DAYLIGHT
TZOFFSETFROM:-0600
TZOFFSETTO:-0500
TZNAME:CDT
DTSTART:20260308T080000
END:DAYLIGHT
BEGIN:STANDARD
TZOFFSETFROM:-0500
TZOFFSETTO:-0600
TZNAME:CST
DTSTART:20261101T070000
END:STANDARD
BEGIN:DAYLIGHT
TZOFFSETFROM:-0600
TZOFFSETTO:-0500
TZNAME:CDT
DTSTART:20270314T080000
END:DAYLIGHT
BEGIN:STANDARD
TZOFFSETFROM:-0500
TZOFFSETTO:-0600
TZNAME:CST
DTSTART:20271107T070000
END:STANDARD
END:VTIMEZONE
BEGIN:VEVENT
DTSTART;TZID=America/Chicago:20260110T110000
DTEND;TZID=America/Chicago:20260110T130000
DTSTAMP:20260422T180552
CREATED:20251008T225714Z
LAST-MODIFIED:20251008T225714Z
UID:2299-1768042800-1768050000@christiansciencekc.com
SUMMARY:The Chosen:  Season 5\, Episode 4\, "The same Coin"
DESCRIPTION:The Chosen is a groundbreaking historical drama based on the life of Jesus Christ (Jonathan Roumie)\, seen through the eyes of those who knew him. Set against the backdrop of Roman oppression in first-century Israel\, the seven-season show shares an authentic and intimate look at Jesus’ revolutionary life and teachings. \nSaturdays 11:00 a.m. to 1:00 p.m. \nJoin us to watch one episode at each in-person meeting\, followed by discussion. All are welcome. Bring your lunch or snack. And bring an open\, inquisitive mind. You won’t need to agree with everything or anything or anyone.  Each episode can stand alone so come when you can. \nWhere: Christian Science Reading Room in Red Bridge Shopping Center in Kansas City\, MO at 504 East 112th Street. \nZoom:  Watch the week’s episode from your home and then join us on Zoom for the discussion. To register for Zoom\, text “Chosen Zoom Register” to 317-324-0102 and include your name\, phone\, and email address or call the same number.
URL:https://christiansciencekc.com/event/the-chosen-season-5-episode-4-the-same-coin/
LOCATION:Christian Science Reading Room Red Bridge\, 504 E 112th St Red Bridge Shopping Center\, Kansas City\, MO\, 64131\, United States
ATTACH;FMTTYPE=image/jpeg:https://christiansciencekc.com/wp-content/uploads/2025/10/sea-5-ep-4.jpg
END:VEVENT
BEGIN:VEVENT
DTSTART;TZID=America/Chicago:20260124T110000
DTEND;TZID=America/Chicago:20260124T130000
DTSTAMP:20260422T180552
CREATED:20251008T225842Z
LAST-MODIFIED:20251008T225842Z
UID:2302-1769252400-1769259600@christiansciencekc.com
SUMMARY:The Chosen:  Season 5\, Episode 5\, "Because of Me"
DESCRIPTION:The Chosen is a groundbreaking historical drama based on the life of Jesus Christ (Jonathan Roumie)\, seen through the eyes of those who knew him. Set against the backdrop of Roman oppression in first-century Israel\, the seven-season show shares an authentic and intimate look at Jesus’ revolutionary life and teachings. \nSaturdays 11:00 a.m. to 1:00 p.m. \nJoin us to watch one episode at each in-person meeting\, followed by discussion. All are welcome. Bring your lunch or snack. And bring an open\, inquisitive mind. You won’t need to agree with everything or anything or anyone.  Each episode can stand alone so come when you can. \nWhere: Christian Science Reading Room in Red Bridge Shopping Center in Kansas City\, MO at 504 East 112th Street. \nZoom:  Watch the week’s episode from your home and then join us on Zoom for the discussion. To register for Zoom\, text “Chosen Zoom Register” to 317-324-0102 and include your name\, phone\, and email address or call the same number.
URL:https://christiansciencekc.com/event/the-chosen-season-5-episode-5-because-of-me/
LOCATION:Christian Science Reading Room Red Bridge\, 504 E 112th St Red Bridge Shopping Center\, Kansas City\, MO\, 64131\, United States
ATTACH;FMTTYPE=image/png:https://christiansciencekc.com/wp-content/uploads/2025/10/sea-5-ep-5.png
END:VEVENT
END:VCALENDAR